BEGIN:VCALENDAR
VERSION:2.0
PRODID:-//Clay County - ECPv6.15.20//NONSGML v1.0//EN
CALSCALE:GREGORIAN
METHOD:PUBLISH
X-ORIGINAL-URL:https://claycounty.ne.gov
X-WR-CALDESC:Events for Clay County
REFRESH-INTERVAL;VALUE=DURATION:PT1H
X-Robots-Tag:noindex
X-PUBLISHED-TTL:PT1H
BEGIN:VTIMEZONE
TZID:America/Chicago
BEGIN:DAYLIGHT
TZOFFSETFROM:-0600
TZOFFSETTO:-0500
TZNAME:CDT
DTSTART:20290311T080000
END:DAYLIGHT
BEGIN:STANDARD
TZOFFSETFROM:-0500
TZOFFSETTO:-0600
TZNAME:CST
DTSTART:20291104T070000
END:STANDARD
BEGIN:DAYLIGHT
TZOFFSETFROM:-0600
TZOFFSETTO:-0500
TZNAME:CDT
DTSTART:20300310T080000
END:DAYLIGHT
BEGIN:STANDARD
TZOFFSETFROM:-0500
TZOFFSETTO:-0600
TZNAME:CST
DTSTART:20301103T070000
END:STANDARD
BEGIN:DAYLIGHT
TZOFFSETFROM:-0600
TZOFFSETTO:-0500
TZNAME:CDT
DTSTART:20310309T080000
END:DAYLIGHT
BEGIN:STANDARD
TZOFFSETFROM:-0500
TZOFFSETTO:-0600
TZNAME:CST
DTSTART:20311102T070000
END:STANDARD
END:VTIMEZONE
BEGIN:VEVENT
DTSTART;TZID=America/Chicago:20300212T081500
DTEND;TZID=America/Chicago:20300212T160000
DTSTAMP:20260425T212808
CREATED:20260120T152825Z
LAST-MODIFIED:20260120T152825Z
UID:10000666-1897114500-1897142400@claycounty.ne.gov
SUMMARY:Driver Examiner
DESCRIPTION:8:15-12:00\, 12:30-4:00 \nNo drive tests will be administered from 11:40 AM to 12:30 PM\, or after 3:30 PM \nThe Driver Licensing office at this location may be closed due to inclement weather\, staff shortages\, or other unforeseen complications. Please check for Office Closures.  \nNo CDL Skills Tests given at this location.
URL:https://claycounty.ne.gov/event/driver-examiner/2030-02-12/
LOCATION:Clay County Courthouse\, 111 W Fairfield St\, Clay Center\, NE\, 68933\, United States
CATEGORIES:Driver Examiner
END:VEVENT
BEGIN:VEVENT
DTSTART;TZID=America/Chicago:20300212T090000
DTEND;TZID=America/Chicago:20300212T090000
DTSTAMP:20260425T212808
CREATED:20260120T152200Z
LAST-MODIFIED:20260120T152201Z
UID:10000522-1897117200-1897117200@claycounty.ne.gov
SUMMARY:County Board Meeting
DESCRIPTION:This is a county board meeting. An agenda can be found on the Board Meetings page.
URL:https://claycounty.ne.gov/event/county-board-meeting-2/2030-02-12/
LOCATION:Clay County Courthouse\, 111 W Fairfield St\, Clay Center\, NE\, 68933\, United States
CATEGORIES:County Board Meeting
END:VEVENT
BEGIN:VEVENT
DTSTART;VALUE=DATE:20300218
DTEND;VALUE=DATE:20300219
DTSTAMP:20260425T212808
CREATED:20240821T153425Z
LAST-MODIFIED:20241212T170616Z
UID:10000700-1897603200-1897689599@claycounty.ne.gov
SUMMARY:President's Day - Closed
DESCRIPTION:All Offices Closed
URL:https://claycounty.ne.gov/event/presidents-day/2030-02-18/
CATEGORIES:Holiday
END:VEVENT
BEGIN:VEVENT
DTSTART;TZID=America/Chicago:20300219T090000
DTEND;TZID=America/Chicago:20300219T090000
DTSTAMP:20260425T212808
CREATED:20260120T152200Z
LAST-MODIFIED:20260120T152201Z
UID:10000523-1897722000-1897722000@claycounty.ne.gov
SUMMARY:County Board Meeting
DESCRIPTION:This is a county board meeting. An agenda can be found on the Board Meetings page.
URL:https://claycounty.ne.gov/event/county-board-meeting-2/2030-02-19/
LOCATION:Clay County Courthouse\, 111 W Fairfield St\, Clay Center\, NE\, 68933\, United States
CATEGORIES:County Board Meeting
END:VEVENT
BEGIN:VEVENT
DTSTART;TZID=America/Chicago:20300226T081500
DTEND;TZID=America/Chicago:20300226T160000
DTSTAMP:20260425T212808
CREATED:20260120T152825Z
LAST-MODIFIED:20260120T152825Z
UID:10000667-1898324100-1898352000@claycounty.ne.gov
SUMMARY:Driver Examiner
DESCRIPTION:8:15-12:00\, 12:30-4:00 \nNo drive tests will be administered from 11:40 AM to 12:30 PM\, or after 3:30 PM \nThe Driver Licensing office at this location may be closed due to inclement weather\, staff shortages\, or other unforeseen complications. Please check for Office Closures.  \nNo CDL Skills Tests given at this location.
URL:https://claycounty.ne.gov/event/driver-examiner/2030-02-26/
LOCATION:Clay County Courthouse\, 111 W Fairfield St\, Clay Center\, NE\, 68933\, United States
CATEGORIES:Driver Examiner
END:VEVENT
BEGIN:VEVENT
DTSTART;TZID=America/Chicago:20300226T090000
DTEND;TZID=America/Chicago:20300226T090000
DTSTAMP:20260425T212808
CREATED:20260120T152200Z
LAST-MODIFIED:20260120T152201Z
UID:10000524-1898326800-1898326800@claycounty.ne.gov
SUMMARY:County Board Meeting
DESCRIPTION:This is a county board meeting. An agenda can be found on the Board Meetings page.
URL:https://claycounty.ne.gov/event/county-board-meeting-2/2030-02-26/
LOCATION:Clay County Courthouse\, 111 W Fairfield St\, Clay Center\, NE\, 68933\, United States
CATEGORIES:County Board Meeting
END:VEVENT
END:VCALENDAR