BEGIN:VCALENDAR
VERSION:2.0
PRODID:-//Clay County - ECPv6.15.20//NONSGML v1.0//EN
CALSCALE:GREGORIAN
METHOD:PUBLISH
X-ORIGINAL-URL:https://claycounty.ne.gov
X-WR-CALDESC:Events for Clay County
REFRESH-INTERVAL;VALUE=DURATION:PT1H
X-Robots-Tag:noindex
X-PUBLISHED-TTL:PT1H
BEGIN:VTIMEZONE
TZID:America/Chicago
BEGIN:DAYLIGHT
TZOFFSETFROM:-0600
TZOFFSETTO:-0500
TZNAME:CDT
DTSTART:20270314T080000
END:DAYLIGHT
BEGIN:STANDARD
TZOFFSETFROM:-0500
TZOFFSETTO:-0600
TZNAME:CST
DTSTART:20271107T070000
END:STANDARD
BEGIN:DAYLIGHT
TZOFFSETFROM:-0600
TZOFFSETTO:-0500
TZNAME:CDT
DTSTART:20280312T080000
END:DAYLIGHT
BEGIN:STANDARD
TZOFFSETFROM:-0500
TZOFFSETTO:-0600
TZNAME:CST
DTSTART:20281105T070000
END:STANDARD
BEGIN:DAYLIGHT
TZOFFSETFROM:-0600
TZOFFSETTO:-0500
TZNAME:CDT
DTSTART:20290311T080000
END:DAYLIGHT
BEGIN:STANDARD
TZOFFSETFROM:-0500
TZOFFSETTO:-0600
TZNAME:CST
DTSTART:20291104T070000
END:STANDARD
END:VTIMEZONE
BEGIN:VEVENT
DTSTART;TZID=America/Chicago:20280201T081500
DTEND;TZID=America/Chicago:20280201T160000
DTSTAMP:20260421T085240
CREATED:20260120T152825Z
LAST-MODIFIED:20260120T152825Z
UID:10000613-1833005700-1833033600@claycounty.ne.gov
SUMMARY:Driver Examiner
DESCRIPTION:8:15-12:00\, 12:30-4:00 \nNo drive tests will be administered from 11:40 AM to 12:30 PM\, or after 3:30 PM \nThe Driver Licensing office at this location may be closed due to inclement weather\, staff shortages\, or other unforeseen complications. Please check for Office Closures.  \nNo CDL Skills Tests given at this location.
URL:https://claycounty.ne.gov/event/driver-examiner/2028-02-01/
LOCATION:Clay County Courthouse\, 111 W Fairfield St\, Clay Center\, NE\, 68933\, United States
CATEGORIES:Driver Examiner
END:VEVENT
BEGIN:VEVENT
DTSTART;TZID=America/Chicago:20280208T090000
DTEND;TZID=America/Chicago:20280208T090000
DTSTAMP:20260421T085240
CREATED:20260120T152200Z
LAST-MODIFIED:20260120T152201Z
UID:10000441-1833613200-1833613200@claycounty.ne.gov
SUMMARY:County Board Meeting
DESCRIPTION:This is a county board meeting. An agenda can be found on the Board Meetings page.
URL:https://claycounty.ne.gov/event/county-board-meeting-2/2028-02-08/
LOCATION:Clay County Courthouse\, 111 W Fairfield St\, Clay Center\, NE\, 68933\, United States
CATEGORIES:County Board Meeting
END:VEVENT
BEGIN:VEVENT
DTSTART;TZID=America/Chicago:20280215T081500
DTEND;TZID=America/Chicago:20280215T160000
DTSTAMP:20260421T085240
CREATED:20260120T152825Z
LAST-MODIFIED:20260120T152825Z
UID:10000614-1834215300-1834243200@claycounty.ne.gov
SUMMARY:Driver Examiner
DESCRIPTION:8:15-12:00\, 12:30-4:00 \nNo drive tests will be administered from 11:40 AM to 12:30 PM\, or after 3:30 PM \nThe Driver Licensing office at this location may be closed due to inclement weather\, staff shortages\, or other unforeseen complications. Please check for Office Closures.  \nNo CDL Skills Tests given at this location.
URL:https://claycounty.ne.gov/event/driver-examiner/2028-02-15/
LOCATION:Clay County Courthouse\, 111 W Fairfield St\, Clay Center\, NE\, 68933\, United States
CATEGORIES:Driver Examiner
END:VEVENT
BEGIN:VEVENT
DTSTART;TZID=America/Chicago:20280215T090000
DTEND;TZID=America/Chicago:20280215T090000
DTSTAMP:20260421T085240
CREATED:20260120T152200Z
LAST-MODIFIED:20260120T152201Z
UID:10000442-1834218000-1834218000@claycounty.ne.gov
SUMMARY:County Board Meeting
DESCRIPTION:This is a county board meeting. An agenda can be found on the Board Meetings page.
URL:https://claycounty.ne.gov/event/county-board-meeting-2/2028-02-15/
LOCATION:Clay County Courthouse\, 111 W Fairfield St\, Clay Center\, NE\, 68933\, United States
CATEGORIES:County Board Meeting
END:VEVENT
BEGIN:VEVENT
DTSTART;VALUE=DATE:20280221
DTEND;VALUE=DATE:20280222
DTSTAMP:20260421T085240
CREATED:20240821T153425Z
LAST-MODIFIED:20241212T170616Z
UID:10000314-1834704000-1834790399@claycounty.ne.gov
SUMMARY:President's Day - Closed
DESCRIPTION:All Offices Closed
URL:https://claycounty.ne.gov/event/presidents-day/2028-02-21/
CATEGORIES:Holiday
END:VEVENT
BEGIN:VEVENT
DTSTART;TZID=America/Chicago:20280222T090000
DTEND;TZID=America/Chicago:20280222T090000
DTSTAMP:20260421T085240
CREATED:20260120T152200Z
LAST-MODIFIED:20260120T152201Z
UID:10000443-1834822800-1834822800@claycounty.ne.gov
SUMMARY:County Board Meeting
DESCRIPTION:This is a county board meeting. An agenda can be found on the Board Meetings page.
URL:https://claycounty.ne.gov/event/county-board-meeting-2/2028-02-22/
LOCATION:Clay County Courthouse\, 111 W Fairfield St\, Clay Center\, NE\, 68933\, United States
CATEGORIES:County Board Meeting
END:VEVENT
BEGIN:VEVENT
DTSTART;TZID=America/Chicago:20280229T081500
DTEND;TZID=America/Chicago:20280229T160000
DTSTAMP:20260421T085240
CREATED:20260120T152825Z
LAST-MODIFIED:20260120T152825Z
UID:10000615-1835424900-1835452800@claycounty.ne.gov
SUMMARY:Driver Examiner
DESCRIPTION:8:15-12:00\, 12:30-4:00 \nNo drive tests will be administered from 11:40 AM to 12:30 PM\, or after 3:30 PM \nThe Driver Licensing office at this location may be closed due to inclement weather\, staff shortages\, or other unforeseen complications. Please check for Office Closures.  \nNo CDL Skills Tests given at this location.
URL:https://claycounty.ne.gov/event/driver-examiner/2028-02-29/
LOCATION:Clay County Courthouse\, 111 W Fairfield St\, Clay Center\, NE\, 68933\, United States
CATEGORIES:Driver Examiner
END:VEVENT
BEGIN:VEVENT
DTSTART;TZID=America/Chicago:20280229T090000
DTEND;TZID=America/Chicago:20280229T090000
DTSTAMP:20260421T085240
CREATED:20260120T152200Z
LAST-MODIFIED:20260120T152201Z
UID:10000444-1835427600-1835427600@claycounty.ne.gov
SUMMARY:County Board Meeting
DESCRIPTION:This is a county board meeting. An agenda can be found on the Board Meetings page.
URL:https://claycounty.ne.gov/event/county-board-meeting-2/2028-02-29/
LOCATION:Clay County Courthouse\, 111 W Fairfield St\, Clay Center\, NE\, 68933\, United States
CATEGORIES:County Board Meeting
END:VEVENT
END:VCALENDAR